BEGIN:VCALENDAR
VERSION:2.0
PRODID:-//SME Tampa Bay - ECPv6.15.18//NONSGML v1.0//EN
CALSCALE:GREGORIAN
METHOD:PUBLISH
X-ORIGINAL-URL:https://www.smetampabay.org
X-WR-CALDESC:Events for SME Tampa Bay
REFRESH-INTERVAL;VALUE=DURATION:PT1H
X-Robots-Tag:noindex
X-PUBLISHED-TTL:PT1H
BEGIN:VTIMEZONE
TZID:America/New_York
BEGIN:DAYLIGHT
TZOFFSETFROM:-0500
TZOFFSETTO:-0400
TZNAME:EDT
DTSTART:20250309T070000
END:DAYLIGHT
BEGIN:STANDARD
TZOFFSETFROM:-0400
TZOFFSETTO:-0500
TZNAME:EST
DTSTART:20251102T060000
END:STANDARD
BEGIN:DAYLIGHT
TZOFFSETFROM:-0500
TZOFFSETTO:-0400
TZNAME:EDT
DTSTART:20260308T070000
END:DAYLIGHT
BEGIN:STANDARD
TZOFFSETFROM:-0400
TZOFFSETTO:-0500
TZNAME:EST
DTSTART:20261101T060000
END:STANDARD
BEGIN:DAYLIGHT
TZOFFSETFROM:-0500
TZOFFSETTO:-0400
TZNAME:EDT
DTSTART:20270314T070000
END:DAYLIGHT
BEGIN:STANDARD
TZOFFSETFROM:-0400
TZOFFSETTO:-0500
TZNAME:EST
DTSTART:20271107T060000
END:STANDARD
END:VTIMEZONE
BEGIN:VEVENT
DTSTART;TZID=America/New_York:20260409T180000
DTEND;TZID=America/New_York:20260409T193000
DTSTAMP:20260424T101801
CREATED:20260323T215638Z
LAST-MODIFIED:20260323T215638Z
UID:6438-1775757600-1775763000@www.smetampabay.org
SUMMARY:SME TOUR OF LIGHTING MASTER
DESCRIPTION:We’re hosting a new event\, and we would love to see you there. Please join us for the SME Florida Suncoast Chapter 159 plant tour of Lightning Master at 6:00 PM on Thursday\, April 9\, 2026. \n  \nFor nearly 40 years\, Lightning Master has led the industry in providing customized lightning protection and static solutions to help protect industrial and commercial facilities against direct and indirect lightning strikes and electrical surges. Lightning protection is a science. Their goal is to help mitigate downtime\, damage\, and losses that lightning strikes cause every year. \n  \nLightning Master’s broad portfolio of innovative products is derived from its interdisciplinary team\, including aeronautical\, chemical\, electrical\, manufacturing and mechanical engineers. Working closely together with their customers and regulatory agencies\, their engineering department conducts site surveys and risk assessments\, designs new products (using both AutoCAD and SolidWorks)\, builds and tests prototypes\, and drafts installation drawings. Lightning Master is an Underwriters Laboratories UL-Listed manufacturer of lightning protection components and is a UL-Certified Lightning Protection System Installer. Lightning Master products are made in Clearwater\, Florida. \n  \nJoin us as Lightning Master will demonstrate their capabilities of designing and building lightning protection systems. \n  \nHere is our tour agenda: \n5:50 – 6:00 Check-In / Networking\n6:00 – 6:10 Welcome / Announcements\n6:10 – 6:30 Lightning Master Presentation\n6:30 – 7:20 Facility Tour\n7:20 – 7:30 Wrap-Up / Closing Remarks \nAddress: 2100-A Palmetto St.\, Clearwater\, Florida 33765 \nPlease Remember:  Visitors must wear closed toe shoes/no heels and long pants while on site. \n  \nAfter the tour\, there will be an optional networking\, out-of-pocket dinner at a nearby restaurant. \nRegister NOW  \nHigh School Students\, College Students\, Educators\, and Professionals who become SME Members can attend our chapter tours free! Learn more about SME membership at http://www.sme.org/join . \nPlease contact us at info@smetampabay.org with any questions you may have. We look forward to seeing you on April 9th! \n  \nExecutive Committee\nSME Florida Suncoast Chapter 159\nwww.smetampabay.org
URL:https://www.smetampabay.org/event/sme-tour-of-lighting-master/
END:VEVENT
END:VCALENDAR