BEGIN:VCALENDAR
VERSION:2.0
PRODID:-//SME Tampa Bay - ECPv6.15.18//NONSGML v1.0//EN
CALSCALE:GREGORIAN
METHOD:PUBLISH
X-WR-CALNAME:SME Tampa Bay
X-ORIGINAL-URL:https://www.smetampabay.org
X-WR-CALDESC:Events for SME Tampa Bay
REFRESH-INTERVAL;VALUE=DURATION:PT1H
X-Robots-Tag:noindex
X-PUBLISHED-TTL:PT1H
BEGIN:VTIMEZONE
TZID:America/New_York
BEGIN:DAYLIGHT
TZOFFSETFROM:-0500
TZOFFSETTO:-0400
TZNAME:EDT
DTSTART:20240310T070000
END:DAYLIGHT
BEGIN:STANDARD
TZOFFSETFROM:-0400
TZOFFSETTO:-0500
TZNAME:EST
DTSTART:20241103T060000
END:STANDARD
BEGIN:DAYLIGHT
TZOFFSETFROM:-0500
TZOFFSETTO:-0400
TZNAME:EDT
DTSTART:20250309T070000
END:DAYLIGHT
BEGIN:STANDARD
TZOFFSETFROM:-0400
TZOFFSETTO:-0500
TZNAME:EST
DTSTART:20251102T060000
END:STANDARD
BEGIN:DAYLIGHT
TZOFFSETFROM:-0500
TZOFFSETTO:-0400
TZNAME:EDT
DTSTART:20260308T070000
END:DAYLIGHT
BEGIN:STANDARD
TZOFFSETFROM:-0400
TZOFFSETTO:-0500
TZNAME:EST
DTSTART:20261101T060000
END:STANDARD
END:VTIMEZONE
BEGIN:VEVENT
DTSTART;TZID=America/New_York:20251211T180000
DTEND;TZID=America/New_York:20251211T203000
DTSTAMP:20260424T160423
CREATED:20251114T010643Z
LAST-MODIFIED:20251114T010643Z
UID:5733-1765476000-1765485000@www.smetampabay.org
SUMMARY:SME Florida Suncoast Chapter 159 20245Awards & Recognition Event
DESCRIPTION:Please plan to join us for an enjoyable evening on Thursday\, December 11th from 6:00 – 8:30PM at the 19th Hole at East Bay Country Club. \nLocation: 702 Country Club Dr\, Largo\, FL  33771.  \nOur guest speaker is J.B. Wright\, Vice President of Manufacturing Engineering at McCormick Stevenson.   \nWe will also announce the 2025 Student Scholarship winners and the chapter’s 2025 officers will be installed. \nHere is the evening’s agenda: \n6:00 – 6:30 Networking \n6:30 – 7:30 Dinner  \n7:30 – 8:00 Guest Speaker \n8:00 – 8:15 Honors and Awards \n8:15 – 8:30 Officer Installation \nThe dinner buffet includes: Roast Pork with Sauce Robert\, Sole Almondine\, Chicken Piccata\, Caesar Salad\, pasta salad\, vegetable medley\, garlic mashed potatoes\, rolls\, and coffee & tea.  \nOur awards & recognition event is $35.00.
URL:https://www.smetampabay.org/event/sme-florida-suncoast-chapter-159-20245awards-recognition-event/
END:VEVENT
END:VCALENDAR