BEGIN:VCALENDAR
VERSION:2.0
PRODID:-//SME Tampa Bay - ECPv6.15.18//NONSGML v1.0//EN
CALSCALE:GREGORIAN
METHOD:PUBLISH
X-WR-CALNAME:SME Tampa Bay
X-ORIGINAL-URL:https://www.smetampabay.org
X-WR-CALDESC:Events for SME Tampa Bay
REFRESH-INTERVAL;VALUE=DURATION:PT1H
X-Robots-Tag:noindex
X-PUBLISHED-TTL:PT1H
BEGIN:VTIMEZONE
TZID:America/New_York
BEGIN:DAYLIGHT
TZOFFSETFROM:-0500
TZOFFSETTO:-0400
TZNAME:EDT
DTSTART:20240310T070000
END:DAYLIGHT
BEGIN:STANDARD
TZOFFSETFROM:-0400
TZOFFSETTO:-0500
TZNAME:EST
DTSTART:20241103T060000
END:STANDARD
BEGIN:DAYLIGHT
TZOFFSETFROM:-0500
TZOFFSETTO:-0400
TZNAME:EDT
DTSTART:20250309T070000
END:DAYLIGHT
BEGIN:STANDARD
TZOFFSETFROM:-0400
TZOFFSETTO:-0500
TZNAME:EST
DTSTART:20251102T060000
END:STANDARD
BEGIN:DAYLIGHT
TZOFFSETFROM:-0500
TZOFFSETTO:-0400
TZNAME:EDT
DTSTART:20260308T070000
END:DAYLIGHT
BEGIN:STANDARD
TZOFFSETFROM:-0400
TZOFFSETTO:-0500
TZNAME:EST
DTSTART:20261101T060000
END:STANDARD
END:VTIMEZONE
BEGIN:VEVENT
DTSTART;TZID=America/New_York:20250907T120000
DTEND;TZID=America/New_York:20251115T233000
DTSTAMP:20260424T173030
CREATED:20250907T161837Z
LAST-MODIFIED:20250907T161837Z
UID:5351-1757246400-1763249400@www.smetampabay.org
SUMMARY:SME 2025 Student Scholarship
DESCRIPTION:These scholarships provide dedicated and deserving students with additional funding to assist in their studies to pursue an education in the technical fields that directly support manufacturing. \nScholarships in the following amounts will be awarded: \n\nSecondary Education: $1\,900 first place\, $1300 second place\, $600 third place\nPost-secondary Education: $1\,900 first place\, $1300 second place\, $600 third place\n\nStudent Eligibility: \n\nSME Member in good standing (member number)\nHigh School or College/University/Technical Institute Student\n500 minimum to 600 maximum word essay\nState of Florida resident or residing in Florida while attending a Florida school or member of a SME Chapter 159 sponsored SME Student Chapter\nMinimum GPA of 2.5 (unweighted) on a 4.0 scale\nAcademic reference\n\nApplicants must also plan to pursue a career in a manufacturing or related engineering field of study that directly supports manufacturing. \nInterested and qualified applicants should apply at Eventbrite before 11:30 PM EST on November 15\, 2025. In 500-600 words\, describe your personal experiences which shaped your interest in the manufacturing and/or engineering field. How did those experiences influence your understanding of how things are designed\, made and improved? \nPlease visit https://www.sme.org/sme-membership/join-sme to become an SME High School Student or a College/University Student member.
URL:https://www.smetampabay.org/event/sme-2025-student-scholarship/
END:VEVENT
BEGIN:VEVENT
DTSTART;TZID=America/New_York:20251106T180000
DTEND;TZID=America/New_York:20251106T190000
DTSTAMP:20260424T173030
CREATED:20251026T205324Z
LAST-MODIFIED:20251026T205324Z
UID:5645-1762452000-1762455600@www.smetampabay.org
SUMMARY:
DESCRIPTION:NOVEMBER 6TH\nPlease plan to join us for a tour of Depco Pump Company.\nThey have been helping pump distributors serve their\ncustomers for over 30 years with Industrial\, Marine and\nHygienic pumps. They are located in Clearwater. \nAddress: 2145 Calumet Street\, Clearwater\, Fl. 33765 \nMeeting Time: 6:00 PM \nDinner following the tour (Out of Pocket) at a local \nrestaurant TBD. \nBe sure to register early! We are limited to 15 attendees.
URL:https://www.smetampabay.org/event/5645/
END:VEVENT
END:VCALENDAR